BEGIN:VCALENDAR
VERSION:2.0
PRODID:-//Eventin//Event Calendar//EN
CALSCALE:GREGORIAN
METHOD:PUBLISH
BEGIN:VEVENT
UID:031f3a0cd6b5b51319327db8dc6869a5@blackchamberaz.org
SUMMARY:28th Anniversary Pinnacle Pathways Gala and Business Awards
DESCRIPTION:An elevated evening of elegance\, recognition\, and impact. RSV
 P to join the interest list and receive early access to full event details.
 \n\n\n\n\nThis is an interest list. The official event date will be announc
 ed soon.\nIt’s time to get suited and booted again for an unforgettable e
 vening of elegance\, recognition\, and impact as the Black Chamber of Arizo
 na presents its 28th Anniversary Pinnacle Pathways Gala & Business Awards 
 — Arizona’s premier gala season celebration.\nThis signature experience
  brings together business leaders\, entrepreneurs\, and community voices fo
 r a night centered on excellence\, connection\, and celebration of regional
  impact.\nExpect an elevated evening featuring fine dining\, live entertain
 ment\, and meaningful networking in a refined setting designed for presence
  and celebration.\nDetails are forthcoming. This is an interest list only.R
 SVP to receive early access to event updates\, including confirmed date\, v
 enue\, and full program once announced.
LOCATION:To be announced
DTSTAMP:20260422T115856Z
DTSTART:20261207T003000Z
DTEND:20261227T063000Z
END:VEVENT
END:VCALENDAR
