BEGIN:VCALENDAR
VERSION:2.0
PRODID:-//Eventin//Event Calendar//EN
CALSCALE:GREGORIAN
METHOD:PUBLISH
BEGIN:VEVENT
UID:35815f0d9e472d963cb6d243ccc13397@blackchamberaz.org
SUMMARY:All White Party w/ Southwest Gas
DESCRIPTION:Get ready to elevate your business and professional network whi
 le dressed in all white poolside at a thriving outdoor art gallery.\n\n\n\n
 \nThis is an interest list. The official event date will be announced soon.
 \nJoin the Black Chamber of Arizona for an unforgettable evening of network
 ing and cultural celebration. This is more than just a mixer\; it's an oppo
 rtunity to connect with business leaders\, creatives\, and community change
 makers.\nAn evening that feels different.Curated. Elevated. Full of life.\n
 \n\n\n\nWant to be in the room? RSVP to express your interest.You’ll be t
 he first to receive event details once they're officially released.
LOCATION:To be announced
DTSTAMP:20260422T120729Z
DTSTART:20260901T230000Z
DTEND:20261001T040000Z
END:VEVENT
END:VCALENDAR
