BEGIN:VCALENDAR
VERSION:2.0
PRODID:-//Eventin//Event Calendar//EN
CALSCALE:GREGORIAN
METHOD:PUBLISH
BEGIN:VEVENT
UID:a8ac1e643d2399b18b7ac80f39ce25e4@blackchamberaz.org
SUMMARY:National Black Business Month Summit hosted by Black Chamber of Ari
 zona
DESCRIPTION:Overview\n \n\n\n\nCome learn\, network\, and thrive at a summ
 it designed to elevate Black voices and ventures. Be part of the progress.\
 n\n\n\n\nThis is an interest list. The official event date will be announce
 d soon.\nJoin the Black Chamber of Arizona for a powerful\, free full-day s
 ummit celebrating and empowering Black-owned businesses!\nBuilding Legacy. 
 Expanding Access. Elevating Black-Owned Business.\nWhat to Expect:\n✅ Net
 working breakfast & lunch\n✅ Interactive workshops\n✅ Live panel with c
 ity + business leaders\n✅ Local art gallery\n✅ Real resources to grow y
 our business. Make connections. Learn strategies. Build legacy.\n\n\n\n\nWa
 nt to be in the room? RSVP to express your interest.Registrants will receiv
 e early access to confirmed event details\, including date\, venue\, and fu
 ll summit agenda.\nCONTACT FOR QUESTIONS & SPONSORSHIPS : customerservice@b
 lackchamberaz.com\nLEARN MORE: blackchamberaz.org
LOCATION:To be announced
DTSTAMP:20260422T120634Z
DTSTART:20260619T070000Z
DTEND:20260619T160000Z
END:VEVENT
END:VCALENDAR
